BEGIN:VCALENDAR
BEGIN:VEVENT
CLASS:PUBLIC
CREATED:20260421T123252
DESCRIPTION:Strong Voices is a girls empowerment and friendship group where we focus on building confidence, positive relationships and promote healthy living! It is our mission statement at Strong Voices to help girls find their passions, unique gifts, and talents so they can share them with the world. Our groups meet once a week for 6 weeks where we use arts and crafts, role plays/acting and exciting games to spend time discussing a specific topic such as social media, bullying, friendships and any issues going on in the girl world! It is also our goal to teach girls effective coping strategies so they are well equipped for anything thrown their way. Some of these practical skills include deep breathing techniques to help with stress, making mantras to help raise self-esteem, and learning ways to meet new friends. Our groups also get to enjoy organizing a culminating celebration as well.  We look forward to showing families, schools, and communities everything that Strong Voices has to offer!
DTEND:20200728T113000
DTSTAMP:20260421T123252
DTSTART:20200623T103000
LAST-MODIFIED:20091109T101015Z
LOCATION:Virtual (Zoom), , , , 
SUMMARY;LANGUAGE=en-us:Strong Voices Friendship Group (5th, 6th, 7th grade)
BEGIN:VALARM
TRIGGER:-PT1440M
ACTION:DISPLAY
DESCRIPTION:Reminder
END:VALARM
END:VEVENT
END:VCALENDAR
