BEGIN:VCALENDAR
BEGIN:VEVENT
CLASS:PUBLIC
CREATED:20260421T152925
DESCRIPTION:Strong Voices is a girls empowerment group focused on building confidence, positive friendships, and promoting healthy living! We will meet once a week for 8 weeks where we will use arts and crafts, role play/acting and exciting games to spend time discussing a specific topic. Topics include social media, bullying, friendships, and many other issues that may be going on in the “girl world!”  We will be meeting on Monday\'s from 3:00-4:00 on 10/7, 10/21, 11/4, 11/18,, 11/25, 12/2, 12/9, 12/16.
DTEND:20501216T160000
DTSTAMP:20260421T152925
DTSTART:20191007T150000
LAST-MODIFIED:20091109T101015Z
LOCATION:Little Flower School, 5601 Massachusetts Ave, Bethesda, MD, 20816
SUMMARY;LANGUAGE=en-us:Strong Voices Girls Empowerment Group! Little Flower
BEGIN:VALARM
TRIGGER:-PT1440M
ACTION:DISPLAY
DESCRIPTION:Reminder
END:VALARM
END:VEVENT
END:VCALENDAR
